BEGIN:VCALENDAR
VERSION:2.0
PRODID:-//Cornell Small Farms - ECPv6.15.20//NONSGML v1.0//EN
CALSCALE:GREGORIAN
METHOD:PUBLISH
X-WR-CALNAME:Cornell Small Farms
X-ORIGINAL-URL:https://smallfarms.cornell.edu
X-WR-CALDESC:Events for Cornell Small Farms
REFRESH-INTERVAL;VALUE=DURATION:PT1H
X-Robots-Tag:noindex
X-PUBLISHED-TTL:PT1H
BEGIN:VTIMEZONE
TZID:America/New_York
BEGIN:DAYLIGHT
TZOFFSETFROM:-0500
TZOFFSETTO:-0400
TZNAME:EDT
DTSTART:20250309T070000
END:DAYLIGHT
BEGIN:STANDARD
TZOFFSETFROM:-0400
TZOFFSETTO:-0500
TZNAME:EST
DTSTART:20251102T060000
END:STANDARD
BEGIN:DAYLIGHT
TZOFFSETFROM:-0500
TZOFFSETTO:-0400
TZNAME:EDT
DTSTART:20260308T070000
END:DAYLIGHT
BEGIN:STANDARD
TZOFFSETFROM:-0400
TZOFFSETTO:-0500
TZNAME:EST
DTSTART:20261101T060000
END:STANDARD
BEGIN:DAYLIGHT
TZOFFSETFROM:-0500
TZOFFSETTO:-0400
TZNAME:EDT
DTSTART:20270314T070000
END:DAYLIGHT
BEGIN:STANDARD
TZOFFSETFROM:-0400
TZOFFSETTO:-0500
TZNAME:EST
DTSTART:20271107T060000
END:STANDARD
END:VTIMEZONE
BEGIN:VEVENT
DTSTART;TZID=America/New_York:20260417T163000
DTEND;TZID=America/New_York:20260417T183000
DTSTAMP:20260420T043000
CREATED:20260303T174707Z
LAST-MODIFIED:20260305T195154Z
UID:10000312-1776443400-1776450600@smallfarms.cornell.edu
SUMMARY:Mushroom Inoculation - Hands On Workshop
DESCRIPTION:Learn how to grow your own mushrooms at home! \n\nHobby-Level Presentation also provides detail and resoureces for commercial cultivation\nHome-Grown Cultivation Techniques\nLog Maintenance\nInoculate a log with mycelium\, producing edible gourmet Shiitake mushrooms for years.\n\nYou will learn the basics for growing: \n\nShiitake\nLion’s Mane\nWine Cap\nNameko\n\nYou will be able to take your own Shiitake log home!  \nPrepaid registration required of $30. All materials are provided. Please dress accordingly as this project can get messy. Class size is limited to 30 participants. \nRegister early\, class fills quickly
URL:https://smallfarms.cornell.edu/event/mushroom-inoculation-hands-on-workshop-2026-04-17/
LOCATION:Ag & Business Center\, 36 Center St.\, Warsaw\, NY\, 14569\, United States
CATEGORIES:Mushrooms
ATTACH;FMTTYPE=image/jpeg:https://smallfarms.cornell.edu/wp-content/uploads/2022/05/058_scenario1.jpg
ORGANIZER;CN="Cornell Cooperative Extension Wyoming County":MAILTO:wyoming@cornell.edu
END:VEVENT
END:VCALENDAR