BEGIN:VCALENDAR
VERSION:2.0
PRODID:-//Cornell Small Farms - ECPv6.15.20//NONSGML v1.0//EN
CALSCALE:GREGORIAN
METHOD:PUBLISH
X-ORIGINAL-URL:https://smallfarms.cornell.edu
X-WR-CALDESC:Events for Cornell Small Farms
REFRESH-INTERVAL;VALUE=DURATION:PT1H
X-Robots-Tag:noindex
X-PUBLISHED-TTL:PT1H
BEGIN:VTIMEZONE
TZID:America/New_York
BEGIN:DAYLIGHT
TZOFFSETFROM:-0500
TZOFFSETTO:-0400
TZNAME:EDT
DTSTART:20240310T070000
END:DAYLIGHT
BEGIN:STANDARD
TZOFFSETFROM:-0400
TZOFFSETTO:-0500
TZNAME:EST
DTSTART:20241103T060000
END:STANDARD
BEGIN:DAYLIGHT
TZOFFSETFROM:-0500
TZOFFSETTO:-0400
TZNAME:EDT
DTSTART:20250309T070000
END:DAYLIGHT
BEGIN:STANDARD
TZOFFSETFROM:-0400
TZOFFSETTO:-0500
TZNAME:EST
DTSTART:20251102T060000
END:STANDARD
BEGIN:DAYLIGHT
TZOFFSETFROM:-0500
TZOFFSETTO:-0400
TZNAME:EDT
DTSTART:20260308T070000
END:DAYLIGHT
BEGIN:STANDARD
TZOFFSETFROM:-0400
TZOFFSETTO:-0500
TZNAME:EST
DTSTART:20261101T060000
END:STANDARD
BEGIN:DAYLIGHT
TZOFFSETFROM:-0500
TZOFFSETTO:-0400
TZNAME:EDT
DTSTART:20270314T070000
END:DAYLIGHT
BEGIN:STANDARD
TZOFFSETFROM:-0400
TZOFFSETTO:-0500
TZNAME:EST
DTSTART:20271107T060000
END:STANDARD
END:VTIMEZONE
BEGIN:VEVENT
DTSTART;TZID=America/New_York:20251231T190000
DTEND;TZID=America/New_York:20261231T185959
DTSTAMP:20260421T080834
CREATED:20260401T223738Z
LAST-MODIFIED:20260420T120038Z
UID:10000413-1767207600-1798743599@smallfarms.cornell.edu
SUMMARY:Cornell Vegetable Program: 2026 Cornell Vegetable Program Enrollment
DESCRIPTION:
URL:https://smallfarms.cornell.edu/event/cornell-vegetable-program-2026-cornell-vegetable-program-enrollment/
END:VEVENT
BEGIN:VEVENT
DTSTART;TZID=America/New_York:20260304T190000
DTEND;TZID=America/New_York:20261128T185959
DTSTAMP:20260421T080834
CREATED:20260311T155509Z
LAST-MODIFIED:20260406T111217Z
UID:10000347-1772650800-1795892399@smallfarms.cornell.edu
SUMMARY:Cornell Vegetable Program: Veteran Signup Example (Test) Session
DESCRIPTION:
URL:https://smallfarms.cornell.edu/event/cornell-small-farms-team-veteran-signup-example-session/
END:VEVENT
BEGIN:VEVENT
DTSTART;TZID=America/New_York:20260406T200000
DTEND;TZID=America/New_York:20260430T195959
DTSTAMP:20260421T080834
CREATED:20260311T155528Z
LAST-MODIFIED:20260420T120043Z
UID:10000376-1775505600-1777579199@smallfarms.cornell.edu
SUMMARY:Ag Economic Development: Beginner Beekeeper Class
DESCRIPTION:
URL:https://smallfarms.cornell.edu/event/ag-economic-development-beginner-beekeeper-class/
END:VEVENT
BEGIN:VEVENT
DTSTART;TZID=America/New_York:20260416T200000
DTEND;TZID=America/New_York:20261231T185959
DTSTAMP:20260421T080834
CREATED:20260420T120037Z
LAST-MODIFIED:20260420T120054Z
UID:10000434-1776369600-1798743599@smallfarms.cornell.edu
SUMMARY:FLGP: 2026 Newsletter Ad's
DESCRIPTION:
URL:https://smallfarms.cornell.edu/event/flgp-2026-newsletter-ads/
END:VEVENT
BEGIN:VEVENT
DTSTART;TZID=America/New_York:20260419T200000
DTEND;TZID=America/New_York:20260421T195959
DTSTAMP:20260421T080834
CREATED:20260311T155522Z
LAST-MODIFIED:20260420T120039Z
UID:10000368-1776628800-1776801599@smallfarms.cornell.edu
SUMMARY:CCE Administration Team: CCE Program Development Leadership Cohort (CCE PDLC)
DESCRIPTION:
URL:https://smallfarms.cornell.edu/event/cce-administration-team-cce-program-development-leadership-cohort-cce-pdlc/
LOCATION:Stocking Hall – 148
END:VEVENT
BEGIN:VEVENT
DTSTART;TZID=America/New_York:20260421T100000
DTEND;TZID=America/New_York:20260421T150000
DTSTAMP:20260421T080834
CREATED:20260420T120017Z
LAST-MODIFIED:20260420T120040Z
UID:10000418-1776765600-1776783600@smallfarms.cornell.edu
SUMMARY:South Central New York Dairy & Field Crops Program: New Test Event (Practice )
DESCRIPTION:
URL:https://smallfarms.cornell.edu/event/south-central-new-york-dairy-field-crops-program-new-test-event-practice/
END:VEVENT
BEGIN:VEVENT
DTSTART;TZID=America/New_York:20260421T130000
DTEND;TZID=America/New_York:20260421T143000
DTSTAMP:20260421T080834
CREATED:20260311T155521Z
LAST-MODIFIED:20260420T120040Z
UID:10000367-1776776400-1776781800@smallfarms.cornell.edu
SUMMARY:Jefferson Team: Public Speaking Training Series
DESCRIPTION:
URL:https://smallfarms.cornell.edu/event/jefferson-team-public-speaking-training-series/
END:VEVENT
BEGIN:VEVENT
DTSTART;TZID=America/New_York:20260422T144500
DTEND;TZID=America/New_York:20260422T170000
DTSTAMP:20260421T080834
CREATED:20260311T155522Z
LAST-MODIFIED:20260420T120040Z
UID:10000370-1776869100-1776877200@smallfarms.cornell.edu
SUMMARY:4-H: Carthage Middle School TOP
DESCRIPTION:
URL:https://smallfarms.cornell.edu/event/4-h-carthage-middle-school-top-6/
END:VEVENT
BEGIN:VEVENT
DTSTART;TZID=America/New_York:20260423T080000
DTEND;TZID=America/New_York:20260423T170000
DTSTAMP:20260421T080834
CREATED:20260311T155523Z
LAST-MODIFIED:20260420T120040Z
UID:10000371-1776931200-1776963600@smallfarms.cornell.edu
SUMMARY:CCE Administration Team: CCE - NYCON Finance Day
DESCRIPTION:
URL:https://smallfarms.cornell.edu/event/cce-administration-team-cce-nycon-finance-day/
END:VEVENT
BEGIN:VEVENT
DTSTART;TZID=America/New_York:20260424T150000
DTEND;TZID=America/New_York:20260424T180000
DTSTAMP:20260421T080834
CREATED:20260307T181701Z
LAST-MODIFIED:20260307T181701Z
UID:10000329-1777042800-1777053600@smallfarms.cornell.edu
SUMMARY:Air Pruned Raised Beds 101
DESCRIPTION:Join Connor Youngerman of Cornell Small Farms and NYRP’s Parks & Urban Agriculture teams for an introduction to Air Pruned Raised Beds (APRBs) from construction to implementation. APRBs have been shown as an excellent method for growing a suite of urban tree species and hold great promise as a tool for forestry practitioners in NYC. This workshop will explore the in’s and outs\, including design\, appropriate tree species\, and basic troubleshooting (i.e. weeding). Participants will also get to help build and plant out two APRBs at NYRP’s field facility \nN O T E: Registration is required for this workshop. Attendance will be capped at 25 people\, after which anyone else who registers will be automatically added to a wait list. \nRegister Here
URL:https://smallfarms.cornell.edu/event/air-pruned-raised-beds-101/
LOCATION:The Sherman Creek Center\, 3725 10th Ave.\, New York\, NY\, 10034\, United States
CATEGORIES:Agroforestry
ATTACH;FMTTYPE=image/jpeg:https://smallfarms.cornell.edu/wp-content/uploads/2026/03/pexels-shvetsa-5029853-2-scaled-e1772648740575-SBpPkm.jpg
ORGANIZER;CN="New York Restoration Project":MAILTO:info@nyrp.org
END:VEVENT
BEGIN:VEVENT
DTSTART;TZID=America/New_York:20260425T100000
DTEND;TZID=America/New_York:20260425T120000
DTSTAMP:20260421T080834
CREATED:20260420T120018Z
LAST-MODIFIED:20260420T120041Z
UID:10000419-1777111200-1777118400@smallfarms.cornell.edu
SUMMARY:Central New York Dairy\, Livestock & Field Crops Program: HerkimerTest2B (Barb's Test)
DESCRIPTION:
URL:https://smallfarms.cornell.edu/event/central-new-york-dairy-livestock-field-crops-program-herkimertest2b-barbs-test/
END:VEVENT
BEGIN:VEVENT
DTSTART;TZID=America/New_York:20260427T100000
DTEND;TZID=America/New_York:20260427T100000
DTSTAMP:20260421T080834
CREATED:20260311T155523Z
LAST-MODIFIED:20260420T120041Z
UID:10000372-1777284000-1777284000@smallfarms.cornell.edu
SUMMARY:Ag Economic Development: Fast Track To Farming: Vegetable Production
DESCRIPTION:
URL:https://smallfarms.cornell.edu/event/ag-economic-development-fast-track-to-farming-vegetable-production/
END:VEVENT
BEGIN:VEVENT
DTSTART;TZID=America/New_York:20260427T130000
DTEND;TZID=America/New_York:20260427T153000
DTSTAMP:20260421T080834
CREATED:20251029T154157Z
LAST-MODIFIED:20251029T154345Z
UID:10000214-1777294800-1777303800@smallfarms.cornell.edu
SUMMARY:Annie's Project Classic: Risk Management for Farm Women
DESCRIPTION:Are you a woman engaged in farming in NYS? Would you like to learn and network with other farm women\, and learn how to strengthen your farming operation? Join Cornell Cooperative Extensions of Albany\, Allegany\, Broome\, Schoharie-Otsego\, Tioga\, and Onondaga counties\, for a virtual Annie’s Project this winter as we explore these topics and help you grow your toolbox! \nAnnie’s Project is a six-week virtual experience designed especially for farm women to help them develop their management and decision-making skills for their farms. Annie’s Project is designed for farm women who have been in farming\, or agri-business\, or part of the food system for three to five years\, and want to develop their understanding\, interpretation\, and opportunities in sustainable agriculture. Annie’s Project gives farm women the opportunity to learn from female agricultural professionals and network with other women in similar situations. \nAnnie’s Project provides education in production\, price or market\, financial\, institutional and legal\, and human and personal risk. At the end of six weeks\, participants will possess the following skills sets: \n\nUnderstand personality types to communicate better with business partners\nPut family living expenses together with other costs of doing business on the farm\nIdentify production risks on-farm and prioritize risk management strategies to minimize losses\nInterpret balance sheets\, income statements\, and cash flow projections to make business decisions\nConfidence in review of labor laws\, requirements\, and their implications\nDevelop an inventory of current Human Capitol & make a plan to address any weaknesses and contingency plan if a ‘position’ becomes open\nUnderstand farm family labor vs off farm labor. how to offer benefits & when it’s time to hire outside help\nCommunicate expectations of family vs hired labor\nUnderstand insurance options to cover Human Resource concerns\nUnderstand how assets are titled and learn about estate planning tools\nConsider and evaluate available marketing opportunities\nUnderstand how to distinguish your commodity\nUnderstand tools and resources for stress management & farm equipment needs specific to farm women\n\nThe cost is $50 for the series and includes a portfolio\, access to all presentations and worksheets\, access to financial and legal advice\, and support from a variety of community partners. The series will take place on Mondays from 1-3:30pm. The first session\, November 3rd\, and final session\, December 8th will be in person to help kickstart connections with farm women in your region as we explore communication styles and methods of communication. We encourage participants to choose their closest Cornell Cooperative Extension office for these in-person sessions\, or participate virtually the entire series. \nFor more information on the curriculum and program logistics\, please contact Laura Biasillo at lw257@cornell.edu.
URL:https://smallfarms.cornell.edu/event/2025-11-03-annies-project-classic-risk-management-for-farm-women/2026-04-27/
ATTACH;FMTTYPE=image/jpeg:https://smallfarms.cornell.edu/wp-content/uploads/2025/10/NY_AP_Classic_Nov-Dec_2025.jpg
END:VEVENT
BEGIN:VEVENT
DTSTART;TZID=America/New_York:20260427T130000
DTEND;TZID=America/New_York:20260427T153000
DTSTAMP:20260421T080834
CREATED:20260307T181703Z
LAST-MODIFIED:20260307T181703Z
UID:10000330-1777294800-1777303800@smallfarms.cornell.edu
SUMMARY:Annie’s Project Classic: Risk Management for Farm Women
DESCRIPTION:Are you a woman engaged in farming in NYS? Would you like to learn and network with other farm women\, and learn how to strengthen your farming operation? Join Cornell Cooperative Extensions of Albany\, Allegany\, Broome\, Schoharie-Otsego\, Tioga\, and Onondaga counties\, for a virtual Annie’s Project this winter as we explore these topics and help you grow your toolbox! \nAnnie’s Project is a six-week virtual experience designed especially for farm women to help them develop their management and decision-making skills for their farms. Annie’s Project is designed for farm women who have been in farming\, or agri-business\, or part of the food system for three to five years\, and want to develop their understanding\, interpretation\, and opportunities in sustainable agriculture. Annie’s Project gives farm women the opportunity to learn from female agricultural professionals and network with other women in similar situations. \nAnnie’s Project provides education in production\, price or market\, financial\, institutional and legal\, and human and personal risk. At the end of six weeks\, participants will possess the following skills sets: \n\nUnderstand personality types to communicate better with business partners\nPut family living expenses together with other costs of doing business on the farm\nIdentify production risks on-farm and prioritize risk management strategies to minimize losses\nInterpret balance sheets\, income statements\, and cash flow projections to make business decisions\nConfidence in review of labor laws\, requirements\, and their implications\nDevelop an inventory of current Human Capitol & make a plan to address any weaknesses and contingency plan if a ‘position’ becomes open\nUnderstand farm family labor vs off farm labor. how to offer benefits & when it’s time to hire outside help\nCommunicate expectations of family vs hired labor\nUnderstand insurance options to cover Human Resource concerns\nUnderstand how assets are titled and learn about estate planning tools\nConsider and evaluate available marketing opportunities\nUnderstand how to distinguish your commodity\nUnderstand tools and resources for stress management & farm equipment needs specific to farm women\n\nThe cost is $50 for the series and includes a portfolio\, access to all presentations and worksheets\, access to financial and legal advice\, and support from a variety of community partners. The series will take place on Mondays from 1-3:30pm. The first session\, November 3rd\, and final session\, December 8th will be in person to help kickstart connections with farm women in your region as we explore communication styles and methods of communication. We encourage participants to choose their closest Cornell Cooperative Extension office for these in-person sessions\, or participate virtually the entire series. \nFor more information on the curriculum and program logistics\, please contact Laura Biasillo at lw257@cornell.edu.
URL:https://smallfarms.cornell.edu/event/annies-project-classic-risk-management-for-farm-women-11/
ATTACH;FMTTYPE=image/jpeg:https://smallfarms.cornell.edu/wp-content/uploads/2026/03/NY_AP_Classic_Nov-Dec_2025-VQf5D1.jpg
END:VEVENT
BEGIN:VEVENT
DTSTART;TZID=America/New_York:20260427T150000
DTEND;TZID=America/New_York:20260427T170000
DTSTAMP:20260421T080834
CREATED:20260311T155524Z
LAST-MODIFIED:20260420T120042Z
UID:10000373-1777302000-1777309200@smallfarms.cornell.edu
SUMMARY:CCE Administration Team: CCE Agriculture and Food Systems Programming – Regional Listening Sessions Session
DESCRIPTION:
URL:https://smallfarms.cornell.edu/event/cce-administration-team-cce-agriculture-and-food-systems-programming-regional-listening-sessions-session/
LOCATION:Irondequoit Community Center
END:VEVENT
BEGIN:VEVENT
DTSTART;TZID=America/New_York:20260428T130000
DTEND;TZID=America/New_York:20260428T143000
DTSTAMP:20260421T080834
CREATED:20260311T155525Z
LAST-MODIFIED:20260420T120042Z
UID:10000374-1777381200-1777386600@smallfarms.cornell.edu
SUMMARY:Jefferson Team: Public Speaking Training Series Session
DESCRIPTION:
URL:https://smallfarms.cornell.edu/event/jefferson-team-public-speaking-training-series-session/
END:VEVENT
BEGIN:VEVENT
DTSTART;TZID=America/New_York:20260429T144500
DTEND;TZID=America/New_York:20260429T170000
DTSTAMP:20260421T080834
CREATED:20260311T155530Z
LAST-MODIFIED:20260420T120042Z
UID:10000379-1777473900-1777482000@smallfarms.cornell.edu
SUMMARY:4-H: Carthage Middle School TOP
DESCRIPTION:
URL:https://smallfarms.cornell.edu/event/4-h-carthage-middle-school-top-7/
END:VEVENT
BEGIN:VEVENT
DTSTART;TZID=America/New_York:20260429T200000
DTEND;TZID=America/New_York:20260430T195959
DTSTAMP:20260421T080834
CREATED:20260420T120021Z
LAST-MODIFIED:20260420T120042Z
UID:10000420-1777492800-1777579199@smallfarms.cornell.edu
SUMMARY:Regional Agriculture Teams: Invite Only Event (Only people we want to attend...)
DESCRIPTION:
URL:https://smallfarms.cornell.edu/event/regional-agriculture-teams-invite-only-event-only-people-we-want-to-attend/
END:VEVENT
BEGIN:VEVENT
DTSTART;TZID=America/New_York:20260429T200000
DTEND;TZID=America/New_York:20260430T195959
DTSTAMP:20260421T080834
CREATED:20260420T120028Z
LAST-MODIFIED:20260420T120043Z
UID:10000430-1777492800-1777579199@smallfarms.cornell.edu
SUMMARY:Eastern NY Commercial Horticulture Program: Test Event- Marcie (This is my test event)
DESCRIPTION:
URL:https://smallfarms.cornell.edu/event/eastern-ny-commercial-horticulture-program-test-event-marcie-this-is-my-test-event/
LOCATION:Albany Capital Center
END:VEVENT
BEGIN:VEVENT
DTSTART;TZID=America/New_York:20260430T150000
DTEND;TZID=America/New_York:20260430T170000
DTSTAMP:20260421T080834
CREATED:20260311T155526Z
LAST-MODIFIED:20260420T120044Z
UID:10000375-1777561200-1777568400@smallfarms.cornell.edu
SUMMARY:CCE Administration Team: CCE Agriculture and Food Systems Programming – Regional Listening Sessions Session
DESCRIPTION:
URL:https://smallfarms.cornell.edu/event/cce-administration-team-cce-agriculture-and-food-systems-programming-regional-listening-sessions-session-2/
LOCATION:Cornell Hudson Valley Research Lab
END:VEVENT
BEGIN:VEVENT
DTSTART;TZID=America/New_York:20260430T200000
DTEND;TZID=America/New_York:20260502T195959
DTSTAMP:20260421T080834
CREATED:20260316T162756Z
LAST-MODIFIED:20260420T120048Z
UID:10000399-1777579200-1777751999@smallfarms.cornell.edu
SUMMARY:Agriculture and Food Systems: TEST: Conference Application (Bundle)
DESCRIPTION:
URL:https://smallfarms.cornell.edu/event/agriculture-and-food-systems-test-conference-application/
END:VEVENT
BEGIN:VEVENT
DTSTART;TZID=America/New_York:20260430T200000
DTEND;TZID=America/New_York:20260502T195959
DTSTAMP:20260421T080834
CREATED:20260316T162757Z
LAST-MODIFIED:20260420T120047Z
UID:10000400-1777579200-1777751999@smallfarms.cornell.edu
SUMMARY:TEST: Conference Application (Bundle)
DESCRIPTION:
URL:https://smallfarms.cornell.edu/event/test-conference-application/
END:VEVENT
BEGIN:VEVENT
DTSTART;TZID=America/New_York:20260501T080000
DTEND;TZID=America/New_York:20260501T085000
DTSTAMP:20260421T080834
CREATED:20260316T162755Z
LAST-MODIFIED:20260420T120044Z
UID:10000397-1777622400-1777625400@smallfarms.cornell.edu
SUMMARY:Agriculture and Food Systems: Exploring the Resources on Greenhouse Production
DESCRIPTION:
URL:https://smallfarms.cornell.edu/event/agriculture-and-food-systems-conference-session-1/
END:VEVENT
BEGIN:VEVENT
DTSTART;TZID=America/New_York:20260501T080000
DTEND;TZID=America/New_York:20260501T085000
DTSTAMP:20260421T080834
CREATED:20260316T162756Z
LAST-MODIFIED:20260420T120048Z
UID:10000398-1777622400-1777625400@smallfarms.cornell.edu
SUMMARY:Agriculture and Food Systems: Pesticide Safety Education Program (PSEP) Session
DESCRIPTION:
URL:https://smallfarms.cornell.edu/event/agriculture-and-food-systems-conference-session-2/
END:VEVENT
BEGIN:VEVENT
DTSTART;TZID=America/New_York:20260501T080000
DTEND;TZID=America/New_York:20260501T085000
DTSTAMP:20260421T080834
CREATED:20260420T120024Z
LAST-MODIFIED:20260420T120044Z
UID:10000421-1777622400-1777625400@smallfarms.cornell.edu
SUMMARY:Agriculture and Food Systems: Climate Mitigation Opportunities in NYS Farming Systems
DESCRIPTION:
URL:https://smallfarms.cornell.edu/event/agriculture-and-food-systems-climate-mitigation-opportunities-in-nys-farming-systems/
END:VEVENT
BEGIN:VEVENT
DTSTART;TZID=America/New_York:20260501T090000
DTEND;TZID=America/New_York:20260501T095000
DTSTAMP:20260421T080834
CREATED:20260420T120024Z
LAST-MODIFIED:20260420T120045Z
UID:10000422-1777626000-1777629000@smallfarms.cornell.edu
SUMMARY:Agriculture and Food Systems: Friday Session 6
DESCRIPTION:
URL:https://smallfarms.cornell.edu/event/agriculture-and-food-systems-friday-session-6/
END:VEVENT
BEGIN:VEVENT
DTSTART;TZID=America/New_York:20260501T090000
DTEND;TZID=America/New_York:20260501T095000
DTSTAMP:20260421T080834
CREATED:20260420T120025Z
LAST-MODIFIED:20260420T120045Z
UID:10000423-1777626000-1777629000@smallfarms.cornell.edu
SUMMARY:Agriculture and Food Systems: AF - OFFSITE - Agroforestry Field Tours at Long Spoon Farm and South Hill Cider
DESCRIPTION:
URL:https://smallfarms.cornell.edu/event/agriculture-and-food-systems-af-offsite-agroforestry-field-tours-at-long-spoon-farm-and-south-hill-cider/
END:VEVENT
BEGIN:VEVENT
DTSTART;TZID=America/New_York:20260501T090000
DTEND;TZID=America/New_York:20260501T095000
DTSTAMP:20260421T080834
CREATED:20260420T120025Z
LAST-MODIFIED:20260420T120045Z
UID:10000424-1777626000-1777629000@smallfarms.cornell.edu
SUMMARY:Agriculture and Food Systems: SF - Collaborating to Support Small Farms
DESCRIPTION:
URL:https://smallfarms.cornell.edu/event/agriculture-and-food-systems-sf-collaborating-to-support-small-farms/
END:VEVENT
BEGIN:VEVENT
DTSTART;TZID=America/New_York:20260502T090000
DTEND;TZID=America/New_York:20260502T095000
DTSTAMP:20260421T080834
CREATED:20260420T120025Z
LAST-MODIFIED:20260420T120046Z
UID:10000425-1777712400-1777715400@smallfarms.cornell.edu
SUMMARY:Agriculture and Food Systems: Saturday Session 1
DESCRIPTION:
URL:https://smallfarms.cornell.edu/event/agriculture-and-food-systems-saturday-session-1/
END:VEVENT
BEGIN:VEVENT
DTSTART;TZID=America/New_York:20260502T090000
DTEND;TZID=America/New_York:20260502T095000
DTSTAMP:20260421T080834
CREATED:20260420T120026Z
LAST-MODIFIED:20260420T120046Z
UID:10000426-1777712400-1777715400@smallfarms.cornell.edu
SUMMARY:Agriculture and Food Systems: Saturday Session 2
DESCRIPTION:
URL:https://smallfarms.cornell.edu/event/agriculture-and-food-systems-saturday-session-2/
END:VEVENT
END:VCALENDAR