BEGIN:VCALENDAR
VERSION:2.0
PRODID:-//Cornell Small Farms - ECPv6.15.20//NONSGML v1.0//EN
CALSCALE:GREGORIAN
METHOD:PUBLISH
X-WR-CALNAME:Cornell Small Farms
X-ORIGINAL-URL:https://smallfarms.cornell.edu
X-WR-CALDESC:Events for Cornell Small Farms
REFRESH-INTERVAL;VALUE=DURATION:PT1H
X-Robots-Tag:noindex
X-PUBLISHED-TTL:PT1H
BEGIN:VTIMEZONE
TZID:America/New_York
BEGIN:DAYLIGHT
TZOFFSETFROM:-0500
TZOFFSETTO:-0400
TZNAME:EDT
DTSTART:20240310T070000
END:DAYLIGHT
BEGIN:STANDARD
TZOFFSETFROM:-0400
TZOFFSETTO:-0500
TZNAME:EST
DTSTART:20241103T060000
END:STANDARD
BEGIN:DAYLIGHT
TZOFFSETFROM:-0500
TZOFFSETTO:-0400
TZNAME:EDT
DTSTART:20250309T070000
END:DAYLIGHT
BEGIN:STANDARD
TZOFFSETFROM:-0400
TZOFFSETTO:-0500
TZNAME:EST
DTSTART:20251102T060000
END:STANDARD
BEGIN:DAYLIGHT
TZOFFSETFROM:-0500
TZOFFSETTO:-0400
TZNAME:EDT
DTSTART:20260308T070000
END:DAYLIGHT
BEGIN:STANDARD
TZOFFSETFROM:-0400
TZOFFSETTO:-0500
TZNAME:EST
DTSTART:20261101T060000
END:STANDARD
BEGIN:DAYLIGHT
TZOFFSETFROM:-0500
TZOFFSETTO:-0400
TZNAME:EDT
DTSTART:20270314T070000
END:DAYLIGHT
BEGIN:STANDARD
TZOFFSETFROM:-0400
TZOFFSETTO:-0500
TZNAME:EST
DTSTART:20271107T060000
END:STANDARD
END:VTIMEZONE
BEGIN:VEVENT
DTSTART;TZID=America/New_York:20251231T190000
DTEND;TZID=America/New_York:20261231T185959
DTSTAMP:20260423T090851
CREATED:20260401T223738Z
LAST-MODIFIED:20260420T120038Z
UID:10000413-1767207600-1798743599@smallfarms.cornell.edu
SUMMARY:Cornell Vegetable Program: 2026 Cornell Vegetable Program Enrollment
DESCRIPTION:
URL:https://smallfarms.cornell.edu/event/cornell-vegetable-program-2026-cornell-vegetable-program-enrollment/
LOCATION:NY
END:VEVENT
BEGIN:VEVENT
DTSTART;TZID=America/New_York:20260304T190000
DTEND;TZID=America/New_York:20261128T185959
DTSTAMP:20260423T090851
CREATED:20260311T155509Z
LAST-MODIFIED:20260406T111217Z
UID:10000347-1772650800-1795892399@smallfarms.cornell.edu
SUMMARY:Cornell Vegetable Program: Veteran Signup Example (Test) Session
DESCRIPTION:
URL:https://smallfarms.cornell.edu/event/cornell-small-farms-team-veteran-signup-example-session/
LOCATION:NY
END:VEVENT
BEGIN:VEVENT
DTSTART;TZID=America/New_York:20260406T200000
DTEND;TZID=America/New_York:20260430T195959
DTSTAMP:20260423T090851
CREATED:20260311T155528Z
LAST-MODIFIED:20260420T120043Z
UID:10000376-1775505600-1777579199@smallfarms.cornell.edu
SUMMARY:Ag Economic Development: Beginner Beekeeper Class
DESCRIPTION:
URL:https://smallfarms.cornell.edu/event/ag-economic-development-beginner-beekeeper-class/
LOCATION:NY
END:VEVENT
BEGIN:VEVENT
DTSTART;TZID=America/New_York:20260416T200000
DTEND;TZID=America/New_York:20261231T185959
DTSTAMP:20260423T090851
CREATED:20260420T120037Z
LAST-MODIFIED:20260420T120054Z
UID:10000434-1776369600-1798743599@smallfarms.cornell.edu
SUMMARY:FLGP: 2026 Newsletter Ad's
DESCRIPTION:
URL:https://smallfarms.cornell.edu/event/flgp-2026-newsletter-ads/
LOCATION:NY
END:VEVENT
BEGIN:VEVENT
DTSTART;TZID=America/New_York:20260422T200000
DTEND;TZID=America/New_York:20260423T195959
DTSTAMP:20260423T090851
CREATED:20260421T133348Z
LAST-MODIFIED:20260421T133348Z
UID:10000440-1776888000-1776974399@smallfarms.cornell.edu
SUMMARY:Cornell Small Farms Team: Demo Demo (An event to show IL)
DESCRIPTION:
URL:https://smallfarms.cornell.edu/event/cornell-small-farms-team-demo-demo-an-event-to-show-il/
LOCATION:Frank Morrison Hall
END:VEVENT
BEGIN:VEVENT
DTSTART;TZID=America/New_York:20260423T080000
DTEND;TZID=America/New_York:20260423T170000
DTSTAMP:20260423T090851
CREATED:20260311T155523Z
LAST-MODIFIED:20260420T120040Z
UID:10000371-1776931200-1776963600@smallfarms.cornell.edu
SUMMARY:CCE Administration Team: CCE - NYCON Finance Day
DESCRIPTION:
URL:https://smallfarms.cornell.edu/event/cce-administration-team-cce-nycon-finance-day/
LOCATION:NY
END:VEVENT
END:VCALENDAR