BEGIN:VCALENDAR
VERSION:2.0
PRODID:-//Cornell Small Farms - ECPv6.15.20//NONSGML v1.0//EN
CALSCALE:GREGORIAN
METHOD:PUBLISH
X-ORIGINAL-URL:https://smallfarms.cornell.edu
X-WR-CALDESC:Events for Cornell Small Farms
REFRESH-INTERVAL;VALUE=DURATION:PT1H
X-Robots-Tag:noindex
X-PUBLISHED-TTL:PT1H
BEGIN:VTIMEZONE
TZID:America/New_York
BEGIN:DAYLIGHT
TZOFFSETFROM:-0500
TZOFFSETTO:-0400
TZNAME:EDT
DTSTART:20240310T070000
END:DAYLIGHT
BEGIN:STANDARD
TZOFFSETFROM:-0400
TZOFFSETTO:-0500
TZNAME:EST
DTSTART:20241103T060000
END:STANDARD
BEGIN:DAYLIGHT
TZOFFSETFROM:-0500
TZOFFSETTO:-0400
TZNAME:EDT
DTSTART:20250309T070000
END:DAYLIGHT
BEGIN:STANDARD
TZOFFSETFROM:-0400
TZOFFSETTO:-0500
TZNAME:EST
DTSTART:20251102T060000
END:STANDARD
BEGIN:DAYLIGHT
TZOFFSETFROM:-0500
TZOFFSETTO:-0400
TZNAME:EDT
DTSTART:20260308T070000
END:DAYLIGHT
BEGIN:STANDARD
TZOFFSETFROM:-0400
TZOFFSETTO:-0500
TZNAME:EST
DTSTART:20261101T060000
END:STANDARD
END:VTIMEZONE
BEGIN:VEVENT
DTSTART;TZID=America/New_York:20250605T183000
DTEND;TZID=America/New_York:20250605T193000
DTSTAMP:20260425T160532
CREATED:20250605T142533Z
LAST-MODIFIED:20250605T142533Z
UID:10000078-1749148200-1749151800@smallfarms.cornell.edu
SUMMARY:Healthy Habitat Series: Grasslands - Non-Native and Invasive Grassland Plants
DESCRIPTION:Join us for a one-hour weeknight webinar with presenter Cierra Williams\, Horticulture & Natural Resources Educator with Cornell Cooperative Extension of Jefferson County\, focusing on grassland plants.\nOver the course of the evening\, Cierra will introduce us to individual plants\, discuss the importance of nurturing native plants and beneficial non-native plants\, and discuss identifying and managing invasive plants for improved habitat health.
URL:https://smallfarms.cornell.edu/event/healthy-habitat-series-grasslands-non-native-and-invasive-grassland-plants/
LOCATION:https://smallfarms.cornell.edu/event/healthy-habitat-series-grasslands-non-native-and-invasive-grassland-plants/
END:VEVENT
END:VCALENDAR