BEGIN:VCALENDAR
VERSION:2.0
PRODID:-//Cornell Small Farms - ECPv6.15.20//NONSGML v1.0//EN
CALSCALE:GREGORIAN
METHOD:PUBLISH
X-ORIGINAL-URL:https://smallfarms.cornell.edu
X-WR-CALDESC:Events for Cornell Small Farms
REFRESH-INTERVAL;VALUE=DURATION:PT1H
X-Robots-Tag:noindex
X-PUBLISHED-TTL:PT1H
BEGIN:VTIMEZONE
TZID:America/New_York
BEGIN:DAYLIGHT
TZOFFSETFROM:-0500
TZOFFSETTO:-0400
TZNAME:EDT
DTSTART:20240310T070000
END:DAYLIGHT
BEGIN:STANDARD
TZOFFSETFROM:-0400
TZOFFSETTO:-0500
TZNAME:EST
DTSTART:20241103T060000
END:STANDARD
BEGIN:DAYLIGHT
TZOFFSETFROM:-0500
TZOFFSETTO:-0400
TZNAME:EDT
DTSTART:20250309T070000
END:DAYLIGHT
BEGIN:STANDARD
TZOFFSETFROM:-0400
TZOFFSETTO:-0500
TZNAME:EST
DTSTART:20251102T060000
END:STANDARD
BEGIN:DAYLIGHT
TZOFFSETFROM:-0500
TZOFFSETTO:-0400
TZNAME:EDT
DTSTART:20260308T070000
END:DAYLIGHT
BEGIN:STANDARD
TZOFFSETFROM:-0400
TZOFFSETTO:-0500
TZNAME:EST
DTSTART:20261101T060000
END:STANDARD
END:VTIMEZONE
BEGIN:VEVENT
DTSTART;TZID=America/New_York:20250626T173000
DTEND;TZID=America/New_York:20250626T183000
DTSTAMP:20260425T075828
CREATED:20250605T145636Z
LAST-MODIFIED:20250605T145636Z
UID:10000080-1750959000-1750962600@smallfarms.cornell.edu
SUMMARY:Grassland Birds and Working Landscapes
DESCRIPTION:If you are a farmer\, landowner\, or Jefferson County resident interested in learning more about our native grassland birds; Please join us for this in-person presentation by Wildlife Biologist – Liz Simons from New York State Department of Conservation. \nLiz is a Wildlife Biologist in Region 6 working out of the Watertown office. She currently serves as co-chair of the Bird Mammal and Diversity Team and is involved in the grassland bird subteam and the project review working group. She is also the regional representative for the Migratory Game Bird Team. Previously\, she worked as a Wildlife Tech out of the Brownville DEC office. Liz holds a B.S. in Biology and a M.S. in Education from St. Lawrence University.
URL:https://smallfarms.cornell.edu/event/grassland-birds-and-working-landscapes/
LOCATION:CCE Jefferson\, 203 N. Hamilton St.\, Watertown\, NY\, 13601\, United States
END:VEVENT
END:VCALENDAR